BEGIN:VCALENDAR
VERSION:2.0
PRODID:-//wp-events-plugin.com//7.2.3.1//EN
TZID:Europe/Berlin
X-WR-TIMEZONE:Europe/Berlin
BEGIN:VEVENT
UID:2909@schleissheimer-zeitung.de
DTSTART;TZID=Europe/Berlin:20241027T140000
DTEND;TZID=Europe/Berlin:20241027T153000
DTSTAMP:20241019T144031Z
URL:https://schleissheimer-zeitung.de/events/familienfuehrung-im-neuen-sch
 loss-schleissheim-barocke-pracht-durch-die-lupe-betrachtet/
SUMMARY:Familienführung im Neuen Schloss Schleißheim: Barocke Pracht durc
 h die Lupe betrachtet
DESCRIPTION:Unter dem Titel „Barocke Pracht durch die Lupe betrachtet –
  eine Spurensuche mit der Lupe im Neuen Schloss“ begibt sich Expertin Ut
 e Völcker um 14 Uhr mit den jungen Teilnehmerinnen und Teilnehmern auf ei
 ne spannende Tour durch die Prunkräume.\n\n Wo? Neues Schloss Schleißhe
 im\, Treffpunkt: Kasse\n\nWer? für Kinder von 5–9 Jahren geeignet (erwa
 chsene Begleitperson erforderlich)\n\nKosten? 3\,- Euro pro Person (+ Eint
 ritt für Erwachsene)\n\nAnmeldung? ohne – Die Teilnehmerzahl ist auf 25
  Personen beschränkt. Tickets sind am Veranstaltungstag an der Museumskas
 se erhältlich\; Reservierungen sind leider nicht möglich. Besorgen Sie s
 ich Ihr Führungsticket bitte rechtzeitig an der Kasse!
ATTACH;FMTTYPE=image/jpeg:https://schleissheimer-zeitung.de/wordpress/wp-c
 ontent/uploads/2024/09/neues-schloss-schleissheim_paradeschlafzimmer200.jp
 g
LOCATION:Neues Schloss Schleißheim\, Max-Emanuel-Platz\, Oberschleißheim\
 , Deutschland\, 85764\, Deutschland
X-APPLE-STRUCTURED-LOCATION;VALUE=URI;X-ADDRESS=Max-Emanuel-Platz\, Obersch
 leißheim\, Deutschland\, 85764\, Deutschland;X-APPLE-RADIUS=100;X-TITLE=N
 eues Schloss Schleißheim:geo:0,0
END:VEVENT
BEGIN:VTIMEZONE
TZID:Europe/Berlin
X-LIC-LOCATION:Europe/Berlin
BEGIN:STANDARD
DTSTART:20241027T020000
TZOFFSETFROM:+0200
TZOFFSETTO:+0100
TZNAME:CET
END:STANDARD
END:VTIMEZONE
END:VCALENDAR